BEGIN:VCALENDAR
VERSION:2.0
PRODID:icalendar-ruby
CALSCALE:GREGORIAN
BEGIN:VEVENT
DTSTAMP:20181218T034207Z
UID:64530bcc-937d-4d5d-93f2-9012688c82ad
DTSTART;VALUE=DATE:20060409
DESCRIPTION:Property ID# 101292\, Locatoin: On Site\, Time: 2:00 pm
SUMMARY:Auction for 
END:VEVENT
END:VCALENDAR
