BEGIN:VCALENDAR
VERSION:2.0
PRODID:icalendar-ruby
CALSCALE:GREGORIAN
BEGIN:VEVENT
DTSTAMP:20181218T034352Z
UID:00e98f5b-bfb6-4bd8-88fa-d65566126db5
DTSTART;VALUE=DATE:20050522
DESCRIPTION:Property ID# 104656\, Locatoin: on-site\, Time: 2:30pm
SUMMARY:Auction for 
END:VEVENT
END:VCALENDAR
