BEGIN:VCALENDAR
VERSION:2.0
PRODID:icalendar-ruby
CALSCALE:GREGORIAN
BEGIN:VEVENT
DTSTAMP:20181218T034209Z
UID:2a7e8733-80ad-4880-9c09-e52f53b0b158
DTSTART;VALUE=DATE:20050820
DESCRIPTION:Property ID# 106610\, Locatoin: On site\, Time: 1:00 pm
SUMMARY:Auction for 
END:VEVENT
END:VCALENDAR
