BEGIN:VCALENDAR
VERSION:2.0
PRODID:icalendar-ruby
CALSCALE:GREGORIAN
BEGIN:VEVENT
DTSTAMP:20181218T034211Z
UID:453cdf78-33a7-46af-a495-218cea150835
DTSTART;VALUE=DATE:20061126
DESCRIPTION:Property ID# 115567\, Locatoin: On site\, Time: 4:00 pm
SUMMARY:Auction for 
END:VEVENT
END:VCALENDAR
