BEGIN:VCALENDAR
VERSION:2.0
PRODID:icalendar-ruby
CALSCALE:GREGORIAN
BEGIN:VEVENT
DTSTAMP:20181218T034353Z
UID:6b65f59c-ef6f-4c26-a2f1-702ee09549de
DTSTART;VALUE=DATE:20060218
DESCRIPTION:Property ID# 119493\, Locatoin: on site\, Time: 1pm
SUMMARY:Auction for 
END:VEVENT
END:VCALENDAR
