BEGIN:VCALENDAR
VERSION:2.0
PRODID:icalendar-ruby
CALSCALE:GREGORIAN
BEGIN:VEVENT
DTSTAMP:20181218T034355Z
UID:546b298f-b9ee-4205-8eb9-fcf52ae7a843
DTSTART;VALUE=DATE:20050211
DESCRIPTION:Property ID# 120448\, Locatoin: On Site\, Time: 2.00pm
SUMMARY:Auction for 
END:VEVENT
END:VCALENDAR
