BEGIN:VCALENDAR
VERSION:2.0
PRODID:icalendar-ruby
CALSCALE:GREGORIAN
BEGIN:VEVENT
DTSTAMP:20181218T034357Z
UID:d121de9d-f26f-42d0-a653-e911ca40d041
DTSTART;VALUE=DATE:20050218
DESCRIPTION:Property ID# 121366\, Locatoin: On Site\, Time: 11:00am
SUMMARY:Auction for 
END:VEVENT
END:VCALENDAR
