BEGIN:VCALENDAR
VERSION:2.0
PRODID:icalendar-ruby
CALSCALE:GREGORIAN
BEGIN:VEVENT
DTSTAMP:20181218T034358Z
UID:86121d9d-3015-41f5-ab37-ac71027ed0f2
DTSTART;VALUE=DATE:20071006
DESCRIPTION:Property ID# 162137\, Locatoin: ON SITE (Unless Sold Prior)\, T
 ime: 3:00pm
SUMMARY:Auction for 
END:VEVENT
END:VCALENDAR
