BEGIN:VCALENDAR
VERSION:2.0
PRODID:icalendar-ruby
CALSCALE:GREGORIAN
BEGIN:VEVENT
DTSTAMP:20181218T034400Z
UID:48735e84-772d-456c-8e75-87e4791f47a4
DTSTART;VALUE=DATE:20071027
DESCRIPTION:Property ID# 162644\, Locatoin: on site\, Time: 3 pm
SUMMARY:Auction for 
END:VEVENT
END:VCALENDAR
