BEGIN:VCALENDAR
VERSION:2.0
PRODID:icalendar-ruby
CALSCALE:GREGORIAN
BEGIN:VEVENT
DTSTAMP:20181218T034401Z
UID:5ca52bc9-b5fe-4d76-a363-caf36d4e5dce
DTSTART;VALUE=DATE:20071020
DESCRIPTION:Property ID# 163199\, Locatoin: on site\, Time: 3pm
SUMMARY:Auction for 
END:VEVENT
END:VCALENDAR
