BEGIN:VCALENDAR
VERSION:2.0
PRODID:icalendar-ruby
CALSCALE:GREGORIAN
BEGIN:VEVENT
DTSTAMP:20181218T034403Z
UID:ca2c5f92-1d05-43fc-94d6-e8e2314516e2
DTSTART;VALUE=DATE:20071103
DESCRIPTION:Property ID# 164351\, Locatoin: ON SITE (Unless Sold Prior)\, T
 ime: 12 noon
SUMMARY:Auction for 
END:VEVENT
END:VCALENDAR
