BEGIN:VCALENDAR
VERSION:2.0
PRODID:icalendar-ruby
CALSCALE:GREGORIAN
BEGIN:VEVENT
DTSTAMP:20181218T034404Z
UID:147380e1-71c4-4d84-b134-44a9bf628ca8
DTSTART;VALUE=DATE:20071110
DESCRIPTION:Property ID# 164359\, Locatoin: on site\, Time: 2.30 pm
SUMMARY:Auction for 
END:VEVENT
END:VCALENDAR
