BEGIN:VCALENDAR
VERSION:2.0
PRODID:icalendar-ruby
CALSCALE:GREGORIAN
BEGIN:VEVENT
DTSTAMP:20181218T034406Z
UID:a345271d-b3b1-4796-b0d5-dd24f77f8f83
DTSTART;VALUE=DATE:20071208
DESCRIPTION:Property ID# 167518\, Locatoin: on site (unless sold prior)\, T
 ime: 3 pm
SUMMARY:Auction for 
END:VEVENT
END:VCALENDAR
