BEGIN:VCALENDAR
VERSION:2.0
PRODID:icalendar-ruby
CALSCALE:GREGORIAN
BEGIN:VEVENT
DTSTAMP:20181218T034407Z
UID:1469d727-916c-4e1d-9d5f-5f9ea249c93b
DTSTART;VALUE=DATE:20080209
DESCRIPTION:Property ID# 169138\, Locatoin: on site (unless sold prior)\, T
 ime: 12:30 pm
SUMMARY:Auction for 
END:VEVENT
END:VCALENDAR
