BEGIN:VCALENDAR
VERSION:2.0
PRODID:icalendar-ruby
CALSCALE:GREGORIAN
BEGIN:VEVENT
DTSTAMP:20181218T034336Z
UID:c2bd8dfa-c49f-41c1-822e-272be7334557
DTSTART;VALUE=DATE:20081216
DESCRIPTION:Property ID# 194489\, Locatoin: On site\, Time: 6:30pm
SUMMARY:Auction for 
END:VEVENT
END:VCALENDAR
