BEGIN:VCALENDAR
VERSION:2.0
PRODID:icalendar-ruby
CALSCALE:GREGORIAN
BEGIN:VEVENT
DTSTAMP:20181218T034302Z
UID:1698b91a-9806-41a9-9f7b-60327f25950a
DTSTART;VALUE=DATE:20120101
DESCRIPTION:Property ID# 197915
SUMMARY:Auction for 
END:VEVENT
END:VCALENDAR
