BEGIN:VCALENDAR
VERSION:2.0
PRODID:icalendar-ruby
CALSCALE:GREGORIAN
BEGIN:VEVENT
DTSTAMP:20181218T034341Z
UID:292376c1-0695-4fe6-90e3-358fa989cc79
DTSTART;VALUE=DATE:20100212
DESCRIPTION:Property ID# 213244\, Locatoin: 2cnr Osterley Way & Amersham\, 
 Manukau\, Time: 2.00pm
SUMMARY:Auction for 
END:VEVENT
END:VCALENDAR
