BEGIN:VCALENDAR
VERSION:2.0
PRODID:icalendar-ruby
CALSCALE:GREGORIAN
BEGIN:VEVENT
DTSTAMP:20181218T034343Z
UID:59f40031-ba9c-48ce-a60a-2b551b9a7556
DTSTART;VALUE=DATE:20100327
DESCRIPTION:Property ID# 221352\, Locatoin: Onsite\, Time: 12:00 noon
SUMMARY:Auction for 
END:VEVENT
END:VCALENDAR
