BEGIN:VCALENDAR
VERSION:2.0
PRODID:icalendar-ruby
CALSCALE:GREGORIAN
BEGIN:VEVENT
DTSTAMP:20181218T034306Z
UID:d3d3b12e-4697-487e-a15c-587ce9648a32
DTSTART;VALUE=DATE:20111026
DESCRIPTION:Property ID# 252713\, Locatoin: 11 Bowen Street\, Waiuku\, Time
 : 4.00 p.m
SUMMARY:Auction for 
END:VEVENT
END:VCALENDAR
