BEGIN:VCALENDAR
VERSION:2.0
PRODID:icalendar-ruby
CALSCALE:GREGORIAN
BEGIN:VEVENT
DTSTAMP:20181218T034317Z
UID:14494dfd-8669-4655-91f8-00d0781096fa
DTSTART;VALUE=DATE:20111215
DESCRIPTION:Property ID# 257385\, Locatoin: Papatoetoe Sports Centre\, Time
 : 6:00pm
SUMMARY:Auction for 
END:VEVENT
END:VCALENDAR
