BEGIN:VCALENDAR
VERSION:2.0
PRODID:icalendar-ruby
CALSCALE:GREGORIAN
BEGIN:VEVENT
DTSTAMP:20181218T034319Z
UID:3093280a-6ee3-48a7-9053-561bc45273d1
DTSTART;VALUE=DATE:20120621
DESCRIPTION:Property ID# 269081\, Locatoin: Papatoetoe Sports Centre\, Sutt
 on Crescent \,Papatoetoe(unless sold prior)\, Time: 6:00pm
SUMMARY:Auction for 
END:VEVENT
END:VCALENDAR
