BEGIN:VCALENDAR
VERSION:2.0
PRODID:icalendar-ruby
CALSCALE:GREGORIAN
BEGIN:VEVENT
DTSTAMP:20181218T034325Z
UID:da6c84ca-a568-4108-8f22-20eebefe59d0
DTSTART;VALUE=DATE:20130407
DESCRIPTION:Property ID# 288483\, Locatoin: Onsite\, Time: 3:30pm
SUMMARY:Auction for 
END:VEVENT
END:VCALENDAR
