BEGIN:VCALENDAR
VERSION:2.0
PRODID:icalendar-ruby
CALSCALE:GREGORIAN
BEGIN:VEVENT
DTSTAMP:20181218T034327Z
UID:a7c1ba89-5011-441c-8815-ad47cb1b8f03
DTSTART;VALUE=DATE:20130831
DESCRIPTION:Property ID# 296937\, Locatoin: On Site/(Unless SOLD Prior)\, T
 ime: 1.pm
SUMMARY:Auction for 
END:VEVENT
END:VCALENDAR
