BEGIN:VCALENDAR
VERSION:2.0
PRODID:icalendar-ruby
CALSCALE:GREGORIAN
BEGIN:VEVENT
DTSTAMP:20181218T034250Z
UID:ba41f5f8-3cb0-4ab2-8db5-196432bb3261
DTSTART;VALUE=DATE:20150630
DESCRIPTION:Property ID# 343035\, Locatoin: LJ Hooker Head Office\, Level 1
 \, 6 Michelson Street\, Ellerslie\, Time: 12pm
SUMMARY:Auction for 
END:VEVENT
END:VCALENDAR
