BEGIN:VCALENDAR
VERSION:2.0
PRODID:icalendar-ruby
CALSCALE:GREGORIAN
BEGIN:VEVENT
DTSTAMP:20181218T034252Z
UID:21f96a89-bd1a-4ae8-a46d-9f6b948deee0
DTSTART;VALUE=DATE:20150801
DESCRIPTION:Property ID# 345349\, Locatoin: On Site\, 31 Railway Street\, (
 unless sold prior)\, Time: 1pm
SUMMARY:Auction for 
END:VEVENT
END:VCALENDAR
