BEGIN:VCALENDAR
VERSION:2.0
PRODID:icalendar-ruby
CALSCALE:GREGORIAN
BEGIN:VEVENT
DTSTAMP:20181218T034253Z
UID:84e02d3d-18f6-49f9-96ec-1022b130aa7a
DTSTART;VALUE=DATE:20150905
DESCRIPTION:Property ID# 346977\, Locatoin: On Site\, 40 Wordsworth Road\, 
 Manurewa\, Time: 12.30pm 
SUMMARY:Auction for 
END:VEVENT
END:VCALENDAR
