BEGIN:VCALENDAR
VERSION:2.0
PRODID:icalendar-ruby
CALSCALE:GREGORIAN
BEGIN:VEVENT
DTSTAMP:20181218T034213Z
UID:b8e14e3d-9e37-4936-bdec-08cd26389df1
DTSTART;VALUE=DATE:20161006
DESCRIPTION:Property ID# 377972\, Locatoin: In room Harcourts Takapuna\, 12
 8 Hurstmere Rd\, Time: 6:30pm
SUMMARY:Auction for 
END:VEVENT
END:VCALENDAR
