BEGIN:VCALENDAR
VERSION:2.0
PRODID:icalendar-ruby
CALSCALE:GREGORIAN
BEGIN:VEVENT
DTSTAMP:20181218T034215Z
UID:27860890-e980-4a38-bb54-722c63efccbc
DTSTART;VALUE=DATE:20170209
DESCRIPTION:Property ID# 387132\, Locatoin: Onsite \, Time: 5:30pm
SUMMARY:Auction for 
END:VEVENT
END:VCALENDAR
