BEGIN:VCALENDAR
VERSION:2.0
PRODID:icalendar-ruby
CALSCALE:GREGORIAN
BEGIN:VEVENT
DTSTAMP:20181218T034313Z
UID:66770f15-66b0-450c-8829-68e4eb0c226b
DTSTART;VALUE=DATE:20170928
DESCRIPTION:Property ID# 403850\, Time: 18:00 PM
SUMMARY:Auction for 
END:VEVENT
END:VCALENDAR
