BEGIN:VCALENDAR
VERSION:2.0
PRODID:icalendar-ruby
CALSCALE:GREGORIAN
BEGIN:VEVENT
DTSTAMP:20181218T034216Z
UID:1da9062a-9b99-4a17-8f84-c466b9c0fb72
DTSTART;VALUE=DATE:20180314
DESCRIPTION:Property ID# 407866\, Locatoin: On site\, Time: 2:00pm (Unless 
 sold prior)
SUMMARY:Auction for 
END:VEVENT
END:VCALENDAR
