BEGIN:VCALENDAR
VERSION:2.0
PRODID:icalendar-ruby
CALSCALE:GREGORIAN
BEGIN:VEVENT
DTSTAMP:20181218T034218Z
UID:d2c6535a-8f75-4d5c-ad2d-36ac64602421
DTSTART;VALUE=DATE:20171210
DESCRIPTION:Property ID# 410014\, Locatoin: Onsite\, Time: 12:30pm
SUMMARY:Auction for 
END:VEVENT
END:VCALENDAR
