BEGIN:VCALENDAR
VERSION:2.0
PRODID:icalendar-ruby
CALSCALE:GREGORIAN
BEGIN:VEVENT
DTSTAMP:20181218T034239Z
UID:b3291810-c40b-47cb-bd72-183257189f31
DTSTART;VALUE=DATE:20010101
DESCRIPTION:Property ID# 41333
SUMMARY:Auction for 
END:VEVENT
END:VCALENDAR
