BEGIN:VCALENDAR
VERSION:2.0
PRODID:icalendar-ruby
CALSCALE:GREGORIAN
BEGIN:VEVENT
DTSTAMP:20181218T034222Z
UID:fcfd5a7a-a4d3-4394-9db2-82315520b99a
DTSTART;VALUE=DATE:20180211
DESCRIPTION:Property ID# 413802\, Locatoin: On Site\, Time: 5:00pm
SUMMARY:Auction for 
END:VEVENT
END:VCALENDAR
