BEGIN:VCALENDAR
VERSION:2.0
PRODID:icalendar-ruby
CALSCALE:GREGORIAN
BEGIN:VEVENT
DTSTAMP:20181218T034226Z
UID:c9b066bf-07e0-47bc-9013-c352c3e8c753
DTSTART;VALUE=DATE:20180216
DESCRIPTION:Property ID# 414484\, Locatoin: On Site\, Time: 6:00
SUMMARY:Auction for 
END:VEVENT
END:VCALENDAR
