BEGIN:VCALENDAR
VERSION:2.0
PRODID:icalendar-ruby
CALSCALE:GREGORIAN
BEGIN:VEVENT
DTSTAMP:20181218T034227Z
UID:135fe17c-33fa-4f77-8f62-1c888fb6fb80
DTSTART;VALUE=DATE:20180307
DESCRIPTION:Property ID# 417970\, Locatoin: On site\, Time: 6:00pm (Unless 
 sold prior)
SUMMARY:Auction for 
END:VEVENT
END:VCALENDAR
