BEGIN:VCALENDAR
VERSION:2.0
PRODID:icalendar-ruby
CALSCALE:GREGORIAN
BEGIN:VEVENT
DTSTAMP:20181218T034229Z
UID:3bf8a521-569f-4947-87f3-c800edc4cbf4
DTSTART;VALUE=DATE:20180826
DESCRIPTION:Property ID# 429789\, Locatoin: On Site\, Time: 3:00pm
SUMMARY:Auction for 
END:VEVENT
END:VCALENDAR
