BEGIN:VCALENDAR
VERSION:2.0
PRODID:icalendar-ruby
CALSCALE:GREGORIAN
BEGIN:VEVENT
DTSTAMP:20181218T034329Z
UID:c688cc1e-05e5-461d-8654-853e1c6b0ca1
DTSTART;VALUE=DATE:20180915
DESCRIPTION:Property ID# 431235\, Time:  2:00 PM
SUMMARY:Auction for 
END:VEVENT
END:VCALENDAR
