BEGIN:VCALENDAR
VERSION:2.0
PRODID:icalendar-ruby
CALSCALE:GREGORIAN
BEGIN:VEVENT
DTSTAMP:20181218T034230Z
UID:aba12f29-af62-4220-aec4-6c6c7c46f62f
DTSTART;VALUE=DATE:20181007
DESCRIPTION:Property ID# 432407\, Time:  6:00 PM
SUMMARY:Auction for 
END:VEVENT
END:VCALENDAR
