BEGIN:VCALENDAR
VERSION:2.0
PRODID:icalendar-ruby
CALSCALE:GREGORIAN
BEGIN:VEVENT
DTSTAMP:20181218T034334Z
UID:cc81409c-e3f0-4c6d-82ac-1dcedd01b323
DTSTART;VALUE=DATE:20181013
DESCRIPTION:Property ID# 433184\, Time: 10:30 AM
SUMMARY:Auction for 
END:VEVENT
END:VCALENDAR
