BEGIN:VCALENDAR
VERSION:2.0
PRODID:icalendar-ruby
CALSCALE:GREGORIAN
BEGIN:VEVENT
DTSTAMP:20181218T034232Z
UID:5e590073-023d-49e6-854d-1db7c20fddaf
DTSTART;VALUE=DATE:20181018
DESCRIPTION:Property ID# 433630\, Locatoin: in rooms 128 Hurstmere Road\, T
 akapuna\, Time: 6.30pm
SUMMARY:Auction for 
END:VEVENT
END:VCALENDAR
