BEGIN:VCALENDAR
VERSION:2.0
PRODID:icalendar-ruby
CALSCALE:GREGORIAN
BEGIN:VEVENT
DTSTAMP:20181218T032337Z
UID:34fe38d3-2c66-4f48-a295-b1397709da9d
DTSTART;VALUE=DATE:20190126
DESCRIPTION:Property ID# 441188\, Time:  2:30 PM
SUMMARY:Auction for 3 Weston Avenue
END:VEVENT
END:VCALENDAR
