BEGIN:VCALENDAR
VERSION:2.0
PRODID:icalendar-ruby
CALSCALE:GREGORIAN
BEGIN:VEVENT
DTSTAMP:20181218T034150Z
UID:7a78672a-b73b-4965-9eff-48ee91136f9c
DTSTART;VALUE=DATE:20060320
DESCRIPTION:Property ID# 75780\, Locatoin: On site\, Time: 5:00 PM
SUMMARY:Auction for 
END:VEVENT
END:VCALENDAR
