BEGIN:VCALENDAR
VERSION:2.0
PRODID:icalendar-ruby
CALSCALE:GREGORIAN
BEGIN:VEVENT
DTSTAMP:20181218T034152Z
UID:03548a93-cb59-428f-9e9c-535107b11be7
DTSTART;VALUE=DATE:20060508
DESCRIPTION:Property ID# 79251\, Locatoin: On site\, Time: 12:00 NOON
SUMMARY:Auction for 
END:VEVENT
END:VCALENDAR
