BEGIN:VCALENDAR
VERSION:2.0
PRODID:icalendar-ruby
CALSCALE:GREGORIAN
BEGIN:VEVENT
DTSTAMP:20181218T034154Z
UID:eff5be04-c1f1-4382-84dc-fd8678306342
DTSTART;VALUE=DATE:20040619
DESCRIPTION:Property ID# 82472\, Locatoin: On site\n2 Bayside Drive\, Brown
 s Bay\, Time: 12:30 pm
SUMMARY:Auction for 
END:VEVENT
END:VCALENDAR
