BEGIN:VCALENDAR
VERSION:2.0
PRODID:icalendar-ruby
CALSCALE:GREGORIAN
BEGIN:VEVENT
DTSTAMP:20181218T034156Z
UID:73fb6edd-fd35-494e-8da7-4bdf11dbb06a
DTSTART;VALUE=DATE:20050710
DESCRIPTION:Property ID# 83801\, Locatoin: On Site\, Time: 12:00 Noon
SUMMARY:Auction for 
END:VEVENT
END:VCALENDAR
