BEGIN:VCALENDAR
VERSION:2.0
PRODID:icalendar-ruby
CALSCALE:GREGORIAN
BEGIN:VEVENT
DTSTAMP:20181218T034158Z
UID:3aaf912a-c2b9-4f3c-823a-5a8c71457404
DTSTART;VALUE=DATE:20040717
DESCRIPTION:Property ID# 84377\, Locatoin: On Site\, Time: 2:00 pm
SUMMARY:Auction for 
END:VEVENT
END:VCALENDAR
