BEGIN:VCALENDAR
VERSION:2.0
PRODID:icalendar-ruby
CALSCALE:GREGORIAN
BEGIN:VEVENT
DTSTAMP:20181218T034200Z
UID:4aab4322-059b-45e1-8d29-056300d88c83
DTSTART;VALUE=DATE:20060828
DESCRIPTION:Property ID# 86700\, Locatoin: On site\, Time: 1:00 pm
SUMMARY:Auction for 
END:VEVENT
END:VCALENDAR
