BEGIN:VCALENDAR
VERSION:2.0
PRODID:icalendar-ruby
CALSCALE:GREGORIAN
BEGIN:VEVENT
DTSTAMP:20181218T034203Z
UID:a76d3933-2882-463c-b500-edb31a55edac
DTSTART;VALUE=DATE:20061120
DESCRIPTION:Property ID# 92042\, Locatoin: On Site\, Time: 12:00
SUMMARY:Auction for 
END:VEVENT
END:VCALENDAR
