BEGIN:VCALENDAR
VERSION:2.0
PRODID:icalendar-ruby
CALSCALE:GREGORIAN
BEGIN:VEVENT
DTSTAMP:20181218T034205Z
UID:b1cd9aa4-0ad4-4fbd-b780-3cc46cee36ea
DTSTART;VALUE=DATE:20050212
DESCRIPTION:Property ID# 97470\, Locatoin: On Site\, Time: 12 noon
SUMMARY:Auction for 
END:VEVENT
END:VCALENDAR
