BEGIN:VCALENDAR
VERSION:2.0
PRODID:icalendar-ruby
CALSCALE:GREGORIAN
BEGIN:VEVENT
DTSTAMP:20181218T032257Z
UID:a05381cb-c948-43b6-a525-de1deacf3c61
DTSTART;TZID=Pacific/Auckland:20190110T180000
DTEND;TZID=Pacific/Auckland:20190110T184500
DESCRIPTION:Property ID# 441449
SUMMARY:Openhome for 738 Chapel Rd
END:VEVENT
END:VCALENDAR
